BEGIN:VCALENDAR
VERSION:2.0
PRODID:-//Gravy For The Brain Arabia - ECPv6.15.11//NONSGML v1.0//EN
CALSCALE:GREGORIAN
METHOD:PUBLISH
X-WR-CALNAME:Gravy For The Brain Arabia
X-ORIGINAL-URL:https://arabia.gravyforthebrain.com/?lang=en
X-WR-CALDESC:Events for Gravy For The Brain Arabia
REFRESH-INTERVAL;VALUE=DURATION:PT1H
X-Robots-Tag:noindex
X-PUBLISHED-TTL:PT1H
BEGIN:VTIMEZONE
TZID:Pacific/Auckland
BEGIN:STANDARD
TZOFFSETFROM:+1300
TZOFFSETTO:+1200
TZNAME:NZST
DTSTART:20180331T140000
END:STANDARD
BEGIN:DAYLIGHT
TZOFFSETFROM:+1200
TZOFFSETTO:+1300
TZNAME:NZDT
DTSTART:20180929T140000
END:DAYLIGHT
BEGIN:STANDARD
TZOFFSETFROM:+1300
TZOFFSETTO:+1200
TZNAME:NZST
DTSTART:20190406T140000
END:STANDARD
BEGIN:DAYLIGHT
TZOFFSETFROM:+1200
TZOFFSETTO:+1300
TZNAME:NZDT
DTSTART:20190928T140000
END:DAYLIGHT
BEGIN:STANDARD
TZOFFSETFROM:+1300
TZOFFSETTO:+1200
TZNAME:NZST
DTSTART:20200404T140000
END:STANDARD
BEGIN:DAYLIGHT
TZOFFSETFROM:+1200
TZOFFSETTO:+1300
TZNAME:NZDT
DTSTART:20200926T140000
END:DAYLIGHT
END:VTIMEZONE
BEGIN:VEVENT
DTSTART;TZID=Pacific/Auckland:20190815T070000
DTEND;TZID=Pacific/Auckland:20190815T080000
DTSTAMP:20260424T051024
CREATED:20190731T145724Z
LAST-MODIFIED:20190805T121940Z
UID:10000316-1565852400-1565856000@arabia.gravyforthebrain.com
SUMMARY:UK: The 7 Core Elements of VO Performance with James R Alburger
DESCRIPTION:Members: Free \nNon-members: $58.80 \n5am Sydney\, 7am New Zealand \nIn this one off webinar\, Peter Dickson and J. Michael Collins are joined by VO guru and author\, James Alburger\, to teach you how to best approach and interpret scripts. The session will allow you to: \n\nDiscover the easy-to-remember formula to allow you to connect with any script\nExplore the techniques that will allow you to improve your interpretation and performance\nLearn how you can use the 4 critical elements of communication to your advantage\n\n 
URL:https://arabia.gravyforthebrain.com/event/uk-the-7-core-elements-of-vo-performance-with-james-r-alburger/?lang=en
LOCATION:.\, .\, Egypt
ATTACH;FMTTYPE=image/jpeg:https://arabia.gravyforthebrain.com/wp-content/uploads/2019/07/The-7-core-elements-of-VO-performance-with-James-R.-Alburger.jpg
END:VEVENT
END:VCALENDAR