BEGIN:VCALENDAR
VERSION:2.0
PRODID:-//Gravy For The Brain Arabia - ECPv6.15.11//NONSGML v1.0//EN
CALSCALE:GREGORIAN
METHOD:PUBLISH
X-WR-CALNAME:Gravy For The Brain Arabia
X-ORIGINAL-URL:https://arabia.gravyforthebrain.com
X-WR-CALDESC:Events for Gravy For The Brain Arabia
REFRESH-INTERVAL;VALUE=DURATION:PT1H
X-Robots-Tag:noindex
X-PUBLISHED-TTL:PT1H
BEGIN:VTIMEZONE
TZID:Africa/Cairo
BEGIN:STANDARD
TZOFFSETFROM:+0200
TZOFFSETTO:+0200
TZNAME:EET
DTSTART:20190101T000000
END:STANDARD
END:VTIMEZONE
BEGIN:VEVENT
DTSTART;TZID=Africa/Cairo:20200808T110000
DTEND;TZID=Africa/Cairo:20200808T120000
DTSTAMP:20260419T172911
CREATED:20200805T100214Z
LAST-MODIFIED:20200805T100320Z
UID:10000322-1596884400-1596888000@arabia.gravyforthebrain.com
SUMMARY:دليلك لصنع علامتك التجارية خطوة بخطوة
DESCRIPTION:مجانية: للأعضاء \n$29 : لغير الأعضاء \n  \nنستكمل موضوع صناعة العلامة التجاربة بمحاضرة ثانية أكثر تفصيلا تتعرف فيها على دليل صنع علامتك التجارية بخطوات عملية أكثر تفصيلا مع نديم خالد.
URL:https://arabia.gravyforthebrain.com/event/%d8%af%d9%84%d9%8a%d9%84%d9%83-%d9%84%d8%b5%d9%86%d8%b9-%d8%b9%d9%84%d8%a7%d9%85%d8%aa%d9%83-%d8%a7%d9%84%d8%aa%d8%ac%d8%a7%d8%b1%d9%8a%d8%a9-%d8%ae%d8%b7%d9%88%d8%a9-%d8%a8%d8%ae%d8%b7%d9%88%d8%a9/
LOCATION:.\, .\, New Zealand
CATEGORIES:Webinars
ATTACH;FMTTYPE=image/jpeg:https://arabia.gravyforthebrain.com/wp-content/uploads/2020/08/Nadeem_Webinar_8-8-1.jpg
END:VEVENT
END:VCALENDAR