BEGIN:VCALENDAR
VERSION:2.0
PRODID:-//Gravy For The Brain Arabia - ECPv6.15.11//NONSGML v1.0//EN
CALSCALE:GREGORIAN
METHOD:PUBLISH
X-ORIGINAL-URL:https://arabia.gravyforthebrain.com
X-WR-CALDESC:Events for Gravy For The Brain Arabia
REFRESH-INTERVAL;VALUE=DURATION:PT1H
X-Robots-Tag:noindex
X-PUBLISHED-TTL:PT1H
BEGIN:VTIMEZONE
TZID:Africa/Cairo
BEGIN:STANDARD
TZOFFSETFROM:+0200
TZOFFSETTO:+0200
TZNAME:EET
DTSTART:20190101T000000
END:STANDARD
END:VTIMEZONE
BEGIN:VEVENT
DTSTART;TZID=Africa/Cairo:20201118T190000
DTEND;TZID=Africa/Cairo:20201120T190000
DTSTAMP:20260419T134929
CREATED:20201116T104543Z
LAST-MODIFIED:20201117T132811Z
UID:10000335-1605726000-1605898800@arabia.gravyforthebrain.com
SUMMARY:الإخراج الصوتي الذاتي لمحترفي التعليق الصوتي
DESCRIPTION:gماهي مهامّ المخرج الصوتي؟ وماهو الإخراج الصوتي الذاتيّ؟\nوكيف تخرج تسجيلاتك الصوتية بنفسك؟\nمحاضرة تقدمها لكم منى شعراوي
URL:https://arabia.gravyforthebrain.com/event/%d8%a7%d9%84%d8%a5%d8%ae%d8%b1%d8%a7%d8%ac-%d8%a7%d9%84%d8%b5%d9%88%d8%aa%d9%8a-%d8%a7%d9%84%d8%b0%d8%a7%d8%aa%d9%8a-%d9%84%d9%85%d8%ad%d8%aa%d8%b1%d9%81%d9%8a-%d8%a7%d9%84%d8%aa%d8%b9%d9%84%d9%8a/
LOCATION:.\, .\, Egypt
CATEGORIES:Webinars
ATTACH;FMTTYPE=image/jpeg:https://arabia.gravyforthebrain.com/wp-content/uploads/2020/11/Mona-Webinar-18-11-copy-scaled.jpg
END:VEVENT
END:VCALENDAR