BEGIN:VCALENDAR
VERSION:2.0
PRODID:-//Gravy For The Brain Arabia - ECPv6.15.11//NONSGML v1.0//EN
CALSCALE:GREGORIAN
METHOD:PUBLISH
X-ORIGINAL-URL:https://arabia.gravyforthebrain.com
X-WR-CALDESC:Events for Gravy For The Brain Arabia
REFRESH-INTERVAL;VALUE=DURATION:PT1H
X-Robots-Tag:noindex
X-PUBLISHED-TTL:PT1H
BEGIN:VTIMEZONE
TZID:Africa/Cairo
BEGIN:STANDARD
TZOFFSETFROM:+0200
TZOFFSETTO:+0200
TZNAME:EET
DTSTART:20200101T000000
END:STANDARD
END:VTIMEZONE
BEGIN:VEVENT
DTSTART;TZID=Africa/Cairo:20210728T190000
DTEND;TZID=Africa/Cairo:20210728T200000
DTSTAMP:20260421T140341
CREATED:20210623T133550Z
LAST-MODIFIED:20210623T133550Z
UID:10000286-1627498800-1627502400@arabia.gravyforthebrain.com
SUMMARY:مشروع تعليق صوتي: من العميل حتى الجمهور
DESCRIPTION:في هذه المحاضرة الإلكترونية، سندرس مشروع تعليق صوتي خطوة بخطوة، من اللحظة التي يطلب فيها الوكيل أو العميل المشروع، وحتى التسليم مع المراجعات أو التعديلات. هذه المحاضرة ستُعدك لمشاريع التعليق الصوتي القادمة سواء كانت عبر الإنترنت أو في الواقع.
URL:https://arabia.gravyforthebrain.com/event/%d9%85%d8%b4%d8%b1%d9%88%d8%b9-%d8%aa%d8%b9%d9%84%d9%8a%d9%82-%d8%b5%d9%88%d8%aa%d9%8a-%d9%85%d9%86-%d8%a7%d9%84%d8%b9%d9%85%d9%8a%d9%84-%d8%ad%d8%aa%d9%89-%d8%a7%d9%84%d8%ac%d9%85%d9%87%d9%88%d8%b1/
LOCATION:.\, .\, Egypt
CATEGORIES:Webinars
ATTACH;FMTTYPE=image/jpeg:https://arabia.gravyforthebrain.com/wp-content/uploads/2021/06/Webinars-May2021.jpg
ORGANIZER;CN="Gravy For The Brain Arabia":MAILTO:arabia_support@gravyforthebrain.com
END:VEVENT
END:VCALENDAR