BEGIN:VCALENDAR
VERSION:2.0
PRODID:-//Gravy For The Brain Arabia - ECPv6.15.11//NONSGML v1.0//EN
CALSCALE:GREGORIAN
METHOD:PUBLISH
X-ORIGINAL-URL:https://arabia.gravyforthebrain.com
X-WR-CALDESC:Events for Gravy For The Brain Arabia
REFRESH-INTERVAL;VALUE=DURATION:PT1H
X-Robots-Tag:noindex
X-PUBLISHED-TTL:PT1H
BEGIN:VTIMEZONE
TZID:Africa/Cairo
BEGIN:STANDARD
TZOFFSETFROM:+0200
TZOFFSETTO:+0200
TZNAME:EET
DTSTART:20200101T000000
END:STANDARD
END:VTIMEZONE
BEGIN:VEVENT
DTSTART;TZID=Africa/Cairo:20210831T190000
DTEND;TZID=Africa/Cairo:20210831T200000
DTSTAMP:20260419T131040
CREATED:20210729T091352Z
LAST-MODIFIED:20210729T091352Z
UID:10000349-1630436400-1630440000@arabia.gravyforthebrain.com
SUMMARY:10 أخطاء شائعة في التسويق يجب عليك تجنبها كمعلق صوتي
DESCRIPTION:التسويق جزء حيوي من إدارة أعمالك كمعلق صوتي محترف. تَعَرَّفْ على الأخطاء الأكثر شيوعاً التي يقع فيها المعلقون الصوتيون حين يقومون بالتسويق لخدماتهم، وكيفية تفاديها.
URL:https://arabia.gravyforthebrain.com/event/10-%d8%a3%d8%ae%d8%b7%d8%a7%d8%a1-%d8%b4%d8%a7%d8%a6%d8%b9%d8%a9-%d9%81%d9%8a-%d8%a7%d9%84%d8%aa%d8%b3%d9%88%d9%8a%d9%82-%d9%8a%d8%ac%d8%a8-%d8%b9%d9%84%d9%8a%d9%83-%d8%aa%d8%ac%d9%86%d8%a8%d9%87/
LOCATION:.\, .\, Egypt
CATEGORIES:Webinars
ATTACH;FMTTYPE=image/jpeg:https://arabia.gravyforthebrain.com/wp-content/uploads/2021/07/Marketing-Mistakes-webinar.jpg
END:VEVENT
END:VCALENDAR