BEGIN:VCALENDAR
VERSION:2.0
PRODID:-//Gravy For The Brain Arabia - ECPv6.15.11//NONSGML v1.0//EN
CALSCALE:GREGORIAN
METHOD:PUBLISH
X-WR-CALNAME:Gravy For The Brain Arabia
X-ORIGINAL-URL:https://arabia.gravyforthebrain.com
X-WR-CALDESC:Events for Gravy For The Brain Arabia
REFRESH-INTERVAL;VALUE=DURATION:PT1H
X-Robots-Tag:noindex
X-PUBLISHED-TTL:PT1H
BEGIN:VTIMEZONE
TZID:Africa/Cairo
BEGIN:DAYLIGHT
TZOFFSETFROM:+0200
TZOFFSETTO:+0300
TZNAME:EEST
DTSTART:20230427T220000
END:DAYLIGHT
BEGIN:STANDARD
TZOFFSETFROM:+0300
TZOFFSETTO:+0200
TZNAME:EET
DTSTART:20231026T210000
END:STANDARD
END:VTIMEZONE
BEGIN:VEVENT
DTSTART;TZID=Africa/Cairo:20220131T213000
DTEND;TZID=Africa/Cairo:20220131T223000
DTSTAMP:20260420T143017
CREATED:20220130T142738Z
LAST-MODIFIED:20220131T085929Z
UID:10000308-1643664600-1643668200@arabia.gravyforthebrain.com
SUMMARY:مقابلة مع يوسف التهامي عن التعليق الصوتي والإذاعة باستضافة نديم خالد
DESCRIPTION:يلتقي نديم خالد بالمعلق الصوتي ومذيع برنامج #عيش_صباحك على نجوم اف ام، في هذه المحاضرة ليتناقشوا في التعليق الصوتي والإذاعة، كما يمكنكم طرح أي اسئلة تودون الإجابة عنها من خلال إرسالها على arabia_support@gravyforthebrain.com قبل موعد المحاضرة.
URL:https://arabia.gravyforthebrain.com/event/%d9%85%d9%82%d8%a7%d8%a8%d9%84%d8%a9-%d9%85%d8%b9-%d9%8a%d9%88%d8%b3%d9%81-%d8%a7%d9%84%d8%aa%d9%87%d8%a7%d9%85%d9%8a-%d8%b9%d9%86-%d8%a7%d9%84%d8%aa%d8%b9%d9%84%d9%8a%d9%82-%d8%a7%d9%84%d8%b5%d9%88/
LOCATION:.\, .\, Egypt
CATEGORIES:Webinars
ATTACH;FMTTYPE=image/jpeg:https://arabia.gravyforthebrain.com/wp-content/uploads/2022/01/letter-Box-Interview-about-Voiceover-and-Broadcasting-with-Youssef-El-Tohami-_-31-1-2022.jpeg
ORGANIZER;CN="Gravy For The Brain Arabia":MAILTO:arabia_support@gravyforthebrain.com
END:VEVENT
END:VCALENDAR