BEGIN:VCALENDAR
VERSION:2.0
PRODID:-//Gravy For The Brain Arabia - ECPv6.15.11//NONSGML v1.0//EN
CALSCALE:GREGORIAN
METHOD:PUBLISH
X-WR-CALNAME:Gravy For The Brain Arabia
X-ORIGINAL-URL:https://arabia.gravyforthebrain.com
X-WR-CALDESC:Events for Gravy For The Brain Arabia
REFRESH-INTERVAL;VALUE=DURATION:PT1H
X-Robots-Tag:noindex
X-PUBLISHED-TTL:PT1H
BEGIN:VTIMEZONE
TZID:Africa/Cairo
BEGIN:DAYLIGHT
TZOFFSETFROM:+0200
TZOFFSETTO:+0300
TZNAME:EEST
DTSTART:20230427T220000
END:DAYLIGHT
BEGIN:STANDARD
TZOFFSETFROM:+0300
TZOFFSETTO:+0200
TZNAME:EET
DTSTART:20231026T210000
END:STANDARD
END:VTIMEZONE
BEGIN:VEVENT
DTSTART;TZID=Africa/Cairo:20220320T170000
DTEND;TZID=Africa/Cairo:20220320T180000
DTSTAMP:20260420T140109
CREATED:20220208T124635Z
LAST-MODIFIED:20220208T124635Z
UID:10000362-1647795600-1647799200@arabia.gravyforthebrain.com
SUMMARY:مقابلة مع نانسي هاني وبسمة ريحان عن الإذاعة
DESCRIPTION:يستضيف نديم خالد مقدمي برنامج “I request” على Nile FM، نانسي هاني وبسمة ريحان، ليسردا لكم يوماً تقليدياً في حياة مقدمي برامج الراديو، ولتتعرفوا أكثر عن المجال وخباياه وما هي المهارات التي يجب تنميتها إذا أردت أن تصبح مقدم برامج.
URL:https://arabia.gravyforthebrain.com/event/%d9%85%d9%82%d8%a7%d8%a8%d9%84%d8%a9-%d9%85%d8%b9-%d9%86%d8%a7%d9%86%d8%b3%d9%8a-%d9%87%d8%a7%d9%86%d9%8a-%d9%88%d8%a8%d8%b3%d9%85%d8%a9-%d8%b1%d9%8a%d8%ad%d8%a7%d9%86-%d8%b9%d9%86-%d8%a7%d9%84%d8%a5/
LOCATION:.\, .\, Egypt
CATEGORIES:Webinars
ATTACH;FMTTYPE=image/jpeg:https://arabia.gravyforthebrain.com/wp-content/uploads/2022/02/GFTBA-Webinars-letter-Box-Interview-with-Nancy-Hany-Basma-Rihan.jpeg
ORGANIZER;CN="Gravy For The Brain Arabia":MAILTO:arabia_support@gravyforthebrain.com
END:VEVENT
END:VCALENDAR