BEGIN:VCALENDAR
VERSION:2.0
PRODID:-//Gravy For The Brain Arabia - ECPv6.15.11//NONSGML v1.0//EN
CALSCALE:GREGORIAN
METHOD:PUBLISH
X-ORIGINAL-URL:https://arabia.gravyforthebrain.com
X-WR-CALDESC:Events for Gravy For The Brain Arabia
REFRESH-INTERVAL;VALUE=DURATION:PT1H
X-Robots-Tag:noindex
X-PUBLISHED-TTL:PT1H
BEGIN:VTIMEZONE
TZID:Africa/Cairo
BEGIN:DAYLIGHT
TZOFFSETFROM:+0200
TZOFFSETTO:+0300
TZNAME:EEST
DTSTART:20230427T220000
END:DAYLIGHT
BEGIN:STANDARD
TZOFFSETFROM:+0300
TZOFFSETTO:+0200
TZNAME:EET
DTSTART:20231026T210000
END:STANDARD
END:VTIMEZONE
BEGIN:VEVENT
DTSTART;TZID=Africa/Cairo:20220421T180000
DTEND;TZID=Africa/Cairo:20220421T230000
DTSTAMP:20260420T092142
CREATED:20220415T131905Z
LAST-MODIFIED:20220420T131117Z
UID:10000367-1650564000-1650582000@arabia.gravyforthebrain.com
SUMMARY:إفطار رمضان مع Gravy For The Brain Arabia
DESCRIPTION:ندعوكم لحضور فعالية رمضان مع Gravy For The Brain Arabia يوم 21 من أبريل الساعة 6.00م في فندق Horizon Shahrazad. \nيتضمن برنامج الفعالية: \n\nمناقشة عن الدوبلاج مع أهم صناع المجال.\nمناقشة عن الإعلانات في التعليق الصوتي.\nبرنامج ترفيهي وجوائز.\n\nيوجد تذاكر مخفضة للأطفال تحت سن 12 سنة، ويوجد عروض إقامة للمغتربين شاملة السحور. \nيُرجى الملاحظة أن التذاكر المُباعة لا تُرد ولا تُستبدل. \n 
URL:https://arabia.gravyforthebrain.com/event/%d8%a5%d9%81%d8%b7%d8%a7%d8%b1-%d8%b1%d9%85%d8%b6%d8%a7%d9%86-%d9%85%d8%b9-gravy-for-the-brain-arabia/
LOCATION:Horizon Shahrazad Hotel\, Derby lounge Agouza\, 184 Gamal Abd El-Nasser Rd\, Al Huwaiteyah\, Agouza\, Giza Governorate\, Giza\, Cairo\, 00200\, Egypt
CATEGORIES:Social Events
ATTACH;FMTTYPE=image/jpeg:https://arabia.gravyforthebrain.com/wp-content/uploads/2022/04/Ticket-shop-Event-.jpg
ORGANIZER;CN="Gravy For The Brain Arabia":MAILTO:arabia_support@gravyforthebrain.com
END:VEVENT
BEGIN:VEVENT
DTSTART;TZID=Africa/Cairo:20211030T130000
DTEND;TZID=Africa/Cairo:20211030T150000
DTSTAMP:20260420T092142
CREATED:20211028T121713Z
LAST-MODIFIED:20211028T133448Z
UID:10000360-1635598800-1635606000@arabia.gravyforthebrain.com
SUMMARY:فعالية شهر أكتوبر الاجتماعية
DESCRIPTION:انضموا إلينا في فعالية هذا الشهر لتناول الغداء معنا، وتقوية روابط مجتمعنا المتكامل للتعليق الصوتي. \nموعدنا السبت 30 أكتوبر 2021 الساعة 1:00م في فندق Horizon شهرزاد بالعجوزة. \nالتذاكر مجانية للأعضاء، كما يمكنكم اصطحاب أحد أفراد عائلاتكم بتذكرة رمزية قيمتها 10$.
URL:https://arabia.gravyforthebrain.com/event/%d9%81%d8%b9%d8%a7%d9%84%d9%8a%d8%a9-%d8%b4%d9%87%d8%b1-%d8%a3%d9%83%d8%aa%d9%88%d8%a8%d8%b1-%d8%a7%d9%84%d8%a7%d8%ac%d8%aa%d9%85%d8%a7%d8%b9%d9%8a%d8%a9/
LOCATION:Horizon Shahrazad Hotel\, Derby lounge Agouza\, 184 Gamal Abd El-Nasser Rd\, Al Huwaiteyah\, Agouza\, Giza Governorate\, Giza\, Cairo\, 00200\, Egypt
CATEGORIES:Social Events
ATTACH;FMTTYPE=image/jpeg:https://arabia.gravyforthebrain.com/wp-content/uploads/2021/10/lunch-social-event-scaled.jpeg
ORGANIZER;CN="Gravy For The Brain Arabia":MAILTO:arabia_support@gravyforthebrain.com
END:VEVENT
BEGIN:VEVENT
DTSTART;TZID=Africa/Cairo:20210717T103000
DTEND;TZID=Africa/Cairo:20210717T130000
DTSTAMP:20260420T092142
CREATED:20210707T153835Z
LAST-MODIFIED:20210707T153835Z
UID:10000348-1626517800-1626526800@arabia.gravyforthebrain.com
SUMMARY:فعالية شهر يوليو الاجتماعية
DESCRIPTION:انضموا إلينا في فعالية هذا الشهر لتناول الفطور معنا، وتقوية روابط مجتمعنا المتكامل للتعليق الصوتي. \nموعدنا السبت 17 يوليو 2021 الساعة 10:30ص في فندق Horizon شهرزاد بالعجوزة. \nبرنامج الفعالية: \n\n10.30am – 11:15am: إفطار\n11:15am – 11:45am: حديث حول الخطوات التالية في مهنتك كمعلق صوتي\n11:45am – 01.00pm: مناقشة مفتوحة عن التجارب الجديدة في مجال التعليق الصوتي وكيفية التغلب على الخوف من المجهول.
URL:https://arabia.gravyforthebrain.com/event/%d9%81%d8%b9%d8%a7%d9%84%d9%8a%d8%a9-%d8%b4%d9%87%d8%b1-%d9%8a%d9%88%d9%84%d9%8a%d9%88-%d8%a7%d9%84%d8%a7%d8%ac%d8%aa%d9%85%d8%a7%d8%b9%d9%8a%d8%a9/
LOCATION:Horizon Shahrazad Hotel\, Derby lounge Agouza\, 184 Gamal Abd El-Nasser Rd\, Al Huwaiteyah\, Agouza\, Giza Governorate\, Giza\, Cairo\, 00200\, Egypt
CATEGORIES:Social Events
ATTACH;FMTTYPE=image/jpeg:https://arabia.gravyforthebrain.com/wp-content/uploads/2021/06/Coffe_Break_Newsletter_template_psd_.jpg
ORGANIZER;CN="Gravy For The Brain Arabia":MAILTO:arabia_support@gravyforthebrain.com
END:VEVENT
BEGIN:VEVENT
DTSTART;TZID=Africa/Cairo:20210619T120000
DTEND;TZID=Africa/Cairo:20210619T140000
DTSTAMP:20260420T092142
CREATED:20210613T094949Z
LAST-MODIFIED:20210613T101702Z
UID:10000285-1624104000-1624111200@arabia.gravyforthebrain.com
SUMMARY:فعالية شهر يونيو الاجتماعية
DESCRIPTION:انضموا إلينا في فعالية هذا الشهر لاحتساء القهوة وتقوية روابط مجتمعنا المتكامل للتعليق الصوتي. موعدنا السبت 19 يونيو 2021 الساعة 12:00م في فندق Horizon شهرزاد بالعجوزة.
URL:https://arabia.gravyforthebrain.com/event/%d9%81%d8%b9%d8%a7%d9%84%d9%8a%d8%a9-%d8%b4%d9%87%d8%b1-%d9%8a%d9%88%d9%86%d9%8a%d9%88-%d8%a7%d9%84%d8%a7%d8%ac%d8%aa%d9%85%d8%a7%d8%b9%d9%8a%d8%a9/
LOCATION:Horizon Shahrazad Hotel\, Derby lounge Agouza\, 184 Gamal Abd El-Nasser Rd\, Al Huwaiteyah\, Agouza\, Giza Governorate\, Giza\, Cairo\, 00200\, Egypt
CATEGORIES:Social Events
ATTACH;FMTTYPE=image/jpeg:https://arabia.gravyforthebrain.com/wp-content/uploads/2021/06/Coffe_Break_Newsletter_template_psd_.jpg
ORGANIZER;CN="Gravy For The Brain Arabia":MAILTO:arabia_support@gravyforthebrain.com
END:VEVENT
BEGIN:VEVENT
DTSTART;TZID=Africa/Cairo:20210424T180000
DTEND;TZID=Africa/Cairo:20210424T220000
DTSTAMP:20260420T092142
CREATED:20210414T102730Z
LAST-MODIFIED:20210414T103556Z
UID:10000280-1619287200-1619301600@arabia.gravyforthebrain.com
SUMMARY:إفطار Gravy For The Brain Arabia - مصر
DESCRIPTION:ندعوكم لحضور إفطار Gravy For The Brain Arabia في مصر في فندق Horizon Shahrazad في العجوزة، يوم السبت الموافق 24 أبريل 2021، تحت مظلة فعاليات Gravy For The Brain الاجتماعية، لنتشارك الأجواء الرمضانية المباركة، كما أنها فرصة لتكبر دائرة معارفك  أو حتى لتكوّن صداقات داخل صناعة التعليق الصوتي. \nثمن التذكرة للأعضاء: 10$\nثمن التذكرة لغير الأعضاء: 20$ \nملحوظة: في حالة رغبتك في الاشتراك، اسأل عن عرض رمضان بقيمة 29$ بدلاً من 49$. \nبرنامج الفعالية:\n– إفطار رمضاني Open Buffet\n– استراحة لاحتساء القهوة والمشروبات الساخنة\n– سحب على جائزة قيمة \nفي حالة رغبة أي عضو اصطحاب أفراد أسرته، تواصل معنا من خلال البريد الإلكتروني arabia_support@gravyforthebrain.com
URL:https://arabia.gravyforthebrain.com/event/%d8%a5%d9%81%d8%b7%d8%a7%d8%b1-gravy-for-the-brain-arabia-%d9%85%d8%b5%d8%b1/
LOCATION:Horizon Shahrazad Hotel\, Derby lounge Agouza\, 184 Gamal Abd El-Nasser Rd\, Al Huwaiteyah\, Agouza\, Giza Governorate\, Giza\, Cairo\, 00200\, Egypt
CATEGORIES:Social Events
ATTACH;FMTTYPE=image/jpeg:https://arabia.gravyforthebrain.com/wp-content/uploads/2021/04/Ramdan_Ticket_RGB_v2-scaled.jpg
ORGANIZER;CN="Gravy For The Brain Arabia":MAILTO:arabia_support@gravyforthebrain.com
END:VEVENT
END:VCALENDAR