BEGIN:VCALENDAR
VERSION:2.0
PRODID:-//Gravy For The Brain Arabia - ECPv6.15.11//NONSGML v1.0//EN
CALSCALE:GREGORIAN
METHOD:PUBLISH
X-WR-CALNAME:Gravy For The Brain Arabia
X-ORIGINAL-URL:https://arabia.gravyforthebrain.com
X-WR-CALDESC:Events for Gravy For The Brain Arabia
REFRESH-INTERVAL;VALUE=DURATION:PT1H
X-Robots-Tag:noindex
X-PUBLISHED-TTL:PT1H
BEGIN:VTIMEZONE
TZID:Africa/Cairo
BEGIN:DAYLIGHT
TZOFFSETFROM:+0200
TZOFFSETTO:+0300
TZNAME:EEST
DTSTART:20230427T220000
END:DAYLIGHT
BEGIN:STANDARD
TZOFFSETFROM:+0300
TZOFFSETTO:+0200
TZNAME:EET
DTSTART:20231026T210000
END:STANDARD
BEGIN:DAYLIGHT
TZOFFSETFROM:+0200
TZOFFSETTO:+0300
TZNAME:EEST
DTSTART:20240425T220000
END:DAYLIGHT
BEGIN:STANDARD
TZOFFSETFROM:+0300
TZOFFSETTO:+0200
TZNAME:EET
DTSTART:20241031T210000
END:STANDARD
END:VTIMEZONE
BEGIN:VEVENT
DTSTART;TZID=Africa/Cairo:20230416T170000
DTEND;TZID=Africa/Cairo:20230416T203000
DTSTAMP:20260419T134753
CREATED:20230402T234915Z
LAST-MODIFIED:20230416T104650Z
UID:10000440-1681664400-1681677000@arabia.gravyforthebrain.com
SUMMARY:Gravy Talent Show - تجمع للمعلقين الصوتيين وإفطار
DESCRIPTION:اِنْضَمَّ إلينا في إفطار رمضان ٢٠٢٣ – “Gravy Talent Show”\nنتشارك معاً المواهب المختلفة،ونلتقي في إفطار يضم أكبر مجتمع للتعليق الصوتي !\nتفاصيل اليوم: \n\nالتجمع في المكان 5:00PM\nموعد التحرك 5:30PM\nالإفطار:\nزجاجة مياه لكل فرد\nمشروب رمضاني ( سوبيا ، تمر )\n2 نوع سلطة ( خضرة و طحينة ).\n2 قطع من صدور الديك الرومي بالصوص .\n3 قطع شيش طاووق .\n3 قطع كفتة مشويه علي الفحم.\nطبق رز بسمتي.\nوعيش\nطبق مشكل حلويات شرقية .\n\nتحدٍ للمعلقين الصوتيين بمشاركة مواهبهم في Gravy Talent Show.\n\nالمكان: Nile Music Boat أمام مطعم Flying fish.\nاليوم: الأحد ١٦ أبريل.
URL:https://arabia.gravyforthebrain.com/event/gravy-talent-show-%d8%aa%d8%ac%d9%85%d8%b9-%d9%84%d9%84%d9%85%d8%b9%d9%84%d9%82%d9%8a%d9%86-%d8%a7%d9%84%d8%b5%d9%88%d8%aa%d9%8a%d9%8a%d9%86-%d9%88%d8%a5%d9%81%d8%b7%d8%a7%d8%b1/
LOCATION:القاهرة\, أمام مستشفي الشرطة العجوزة (تحديداً أمام مطعم Flying Fish)\, الجيزة\, .\, 00000\, Egypt
CATEGORIES:Social Events
ATTACH;FMTTYPE=image/jpeg:https://arabia.gravyforthebrain.com/wp-content/uploads/2023/04/1-Ramadan-ticket-1-1.jpeg
ORGANIZER;CN="Gravy For The Brain Arabia":MAILTO:arabia_support@gravyforthebrain.com
END:VEVENT
BEGIN:VEVENT
DTSTART;TZID=Africa/Cairo:20230211T100000
DTEND;TZID=Africa/Cairo:20230211T180000
DTSTAMP:20260419T134753
CREATED:20230131T153106Z
LAST-MODIFIED:20230210T191904Z
UID:10000413-1676109600-1676138400@arabia.gravyforthebrain.com
SUMMARY:حرب المعلقين الصوتيين Laser Tag
DESCRIPTION:تحدٍ جديدٌ للمعلقين الصوتيين! حرب الليزر تاغ في Warzone بمول مصر.\nنأتيكم بفعالية اجتماعية مميزة كما عودناكم ،وفرصة لتفوز بغداء مجاني علينا. \nالتجمع سيكون في تمام الساعة الحادية عشرة في مول مصر أمام War Zone، ثم نجلس في مطعم مجاور بالمول.\nسيتم تحديد أعضاء كل فريق بعمل قرعة، ثم يبدأ التحدي. \nالفريق الفائز سيفوز بغداء مجاني، أما الفريق الخاسر فيمكنه مشاركتنا هذا الغداء إن أراد ولكن ؛ على نفقته الخاصة، أو مجرد الانضمام والاستمتاع بمشروب مجاني.
URL:https://arabia.gravyforthebrain.com/event/%d8%ad%d8%b1%d8%a8-%d8%a7%d9%84%d9%85%d8%b9%d9%84%d9%82%d9%8a%d9%86-%d8%a7%d9%84%d8%b5%d9%88%d8%aa%d9%8a%d9%8a%d9%86-laser-tag/
LOCATION:القاهرة\, أمام مستشفي الشرطة العجوزة (تحديداً أمام مطعم Flying Fish)\, الجيزة\, .\, 00000\, Egypt
CATEGORIES:Social Events
ATTACH;FMTTYPE=image/jpeg:https://arabia.gravyforthebrain.com/wp-content/uploads/2023/01/Laser-Tag-1-2.jpg
END:VEVENT
END:VCALENDAR